BEGIN:VCALENDAR
VERSION:2.0
PRODID:-//South Hills Chorale - ECPv6.15.20//NONSGML v1.0//EN
CALSCALE:GREGORIAN
METHOD:PUBLISH
X-ORIGINAL-URL:https://www.southhillschorale.org
X-WR-CALDESC:Events for South Hills Chorale
REFRESH-INTERVAL;VALUE=DURATION:PT1H
X-Robots-Tag:noindex
X-PUBLISHED-TTL:PT1H
BEGIN:VTIMEZONE
TZID:America/New_York
BEGIN:DAYLIGHT
TZOFFSETFROM:-0500
TZOFFSETTO:-0400
TZNAME:EDT
DTSTART:20230312T070000
END:DAYLIGHT
BEGIN:STANDARD
TZOFFSETFROM:-0400
TZOFFSETTO:-0500
TZNAME:EST
DTSTART:20231105T060000
END:STANDARD
BEGIN:DAYLIGHT
TZOFFSETFROM:-0500
TZOFFSETTO:-0400
TZNAME:EDT
DTSTART:20240310T070000
END:DAYLIGHT
BEGIN:STANDARD
TZOFFSETFROM:-0400
TZOFFSETTO:-0500
TZNAME:EST
DTSTART:20241103T060000
END:STANDARD
BEGIN:DAYLIGHT
TZOFFSETFROM:-0500
TZOFFSETTO:-0400
TZNAME:EDT
DTSTART:20250309T070000
END:DAYLIGHT
BEGIN:STANDARD
TZOFFSETFROM:-0400
TZOFFSETTO:-0500
TZNAME:EST
DTSTART:20251102T060000
END:STANDARD
END:VTIMEZONE
BEGIN:VEVENT
DTSTART;TZID=America/New_York:20241213T190000
DTEND;TZID=America/New_York:20241214T170000
DTSTAMP:20260424T085354
CREATED:20241113T211010Z
LAST-MODIFIED:20250714T193920Z
UID:10000001-1734116400-1734195600@www.southhillschorale.org
SUMMARY:The Secret of Christmas
DESCRIPTION:Purchase tickets to our festive winter concert\, The Secret of Christmas\, at Christ United Methodist Church located at 44 Highland Road\, Bethel Park 15102 on Friday\, December 13\, 2024 at 7:00 p.m. and Saturday\, December 14\, 2024 at 1:00 p.m. \n\n\n\n\n\n\n\n\n\n\n\n\nTickets are good for either date. \n\n\n\nOur concert venue is fully accessible\, with free level parking and open seating. \n\n\n\nUp to six tickets may be purchased online. A shipping and handling fee of $2.50 will be added to your purchase. We accept PayPal and major credit cards. Tickets also may be purchased from any Chorale member\, or at the door (if we are not sold out). \n\n\n\nPlease enter the name of a South Hills Chorale member to credit for your purchase\, or tell us how you heard about us\, in the boxes you’ll see during registration. For a list of members\, click here. This information is greatly appreciated! \n\n\n\nTickets: Available online from Chorale members\, at the door\, or email brenboys@comcast.net.For More Information Call: 412-613-8717. \n\n\n\nALL MAJOR CREDIT CARDS ACCEPTED \n 
URL:https://www.southhillschorale.org/event/the-secret-of-christmas/
LOCATION:Christ United Methodist Church\, 44 Highland Road\, Bethel Park\, Pennsylvania\, 15102\, United States
CATEGORIES:Concerts
ATTACH;FMTTYPE=image/jpeg:https://www.southhillschorale.org/wp-content/uploads/Winter-Concert-3.jpeg
END:VEVENT
END:VCALENDAR