BEGIN:VCALENDAR
VERSION:2.0
PRODID:-//South Hills Chorale - ECPv6.15.20//NONSGML v1.0//EN
CALSCALE:GREGORIAN
METHOD:PUBLISH
X-WR-CALNAME:South Hills Chorale
X-ORIGINAL-URL:https://www.southhillschorale.org
X-WR-CALDESC:Events for South Hills Chorale
REFRESH-INTERVAL;VALUE=DURATION:PT1H
X-Robots-Tag:noindex
X-PUBLISHED-TTL:PT1H
BEGIN:VTIMEZONE
TZID:America/New_York
BEGIN:DAYLIGHT
TZOFFSETFROM:-0500
TZOFFSETTO:-0400
TZNAME:EDT
DTSTART:20240310T070000
END:DAYLIGHT
BEGIN:STANDARD
TZOFFSETFROM:-0400
TZOFFSETTO:-0500
TZNAME:EST
DTSTART:20241103T060000
END:STANDARD
BEGIN:DAYLIGHT
TZOFFSETFROM:-0500
TZOFFSETTO:-0400
TZNAME:EDT
DTSTART:20250309T070000
END:DAYLIGHT
BEGIN:STANDARD
TZOFFSETFROM:-0400
TZOFFSETTO:-0500
TZNAME:EST
DTSTART:20251102T060000
END:STANDARD
BEGIN:DAYLIGHT
TZOFFSETFROM:-0500
TZOFFSETTO:-0400
TZNAME:EDT
DTSTART:20260308T070000
END:DAYLIGHT
BEGIN:STANDARD
TZOFFSETFROM:-0400
TZOFFSETTO:-0500
TZNAME:EST
DTSTART:20261101T060000
END:STANDARD
END:VTIMEZONE
BEGIN:VEVENT
DTSTART;TZID=America/New_York:20250929T190000
DTEND;TZID=America/New_York:20250929T210000
DTSTAMP:20260424T043121
CREATED:20250715T174028Z
LAST-MODIFIED:20250715T175042Z
UID:10000065-1759172400-1759179600@www.southhillschorale.org
SUMMARY:Weekly Rehearsals
DESCRIPTION:September 8 through December 1
URL:https://www.southhillschorale.org/event/weekly-rehearsals-3/2025-09-29/
LOCATION:Christ United Methodist Church\, 44 Highland Road\, Bethel Park\, Pennsylvania\, 15102\, United States
CATEGORIES:Rehearsals
END:VEVENT
END:VCALENDAR